BEGIN:VCALENDAR
VERSION:2.0
PRODID:-//ChamberMaster//Event Calendar 2.0//EN
METHOD:PUBLISH
X-PUBLISHED-TTL:P3D
REFRESH-INTERVAL:P3D
CALSCALE:GREGORIAN
BEGIN:VEVENT
DTSTART;VALUE=DATE:20200319
DTEND;VALUE=DATE:20200320
TRANSP:TRANSPARENT
X-MICROSOFT-CDO-ALLDAYEVENT:TRUE
SUMMARY:American Heart Association Fundraiser
DESCRIPTION:Join Workman Constructors and Workman Restoration this Thursday\, February 27th\, 2020 at Lazy Dog for the American Heart Association Fundraiser. Let's come together to combat our nation's biggest health threats\, heart disease and stroke. Workman supports all Southwest Riverside County Residents health and pledges to make our lives healthy.
X-ALT-DESC;FMTTYPE=text/html:<p>Join Workman Constructors and Workman Restoration this Thursday\, February 27th\, 2020 at Lazy Dog for the American Heart Association Fundraiser. Let&rsquo\;s come together to combat our nation&rsquo\;s biggest health threats\, heart disease and stroke. Workman supports all Southwest Riverside County Residents health and pledges to make our lives healthy.</p>\n
LOCATION:Lazy Dog Restaurant & Bar 40754 Winchester Rd. Suite #350 Temecula\, CA 92591
UID:e.2243.4160
SEQUENCE:3
DTSTAMP:20260422T102713Z
URL:https://business.menifeevalleychamber.com/events/details/american-heart-association-fundraiser-03-19-2020-4160
END:VEVENT

END:VCALENDAR
