BEGIN:VCALENDAR
VERSION:2.0
PRODID:-//ChamberMaster//Event Calendar 2.0//EN
METHOD:PUBLISH
X-PUBLISHED-TTL:P3D
REFRESH-INTERVAL:P3D
CALSCALE:GREGORIAN
BEGIN:VEVENT
DTSTART:20200514T003000Z
DTEND:20200514T013000Z
X-MICROSOFT-CDO-ALLDAYEVENT:FALSE
SUMMARY:Business Social
DESCRIPTION:Virtual Business Social
X-ALT-DESC;FMTTYPE=text/html:Virtual Business Social
LOCATION:Hosted by Brian Horan at Primerica
UID:e.2243.4119
SEQUENCE:3
DTSTAMP:20260421T153654Z
URL:https://business.menifeevalleychamber.com/events/details/business-social-4119
END:VEVENT

END:VCALENDAR
