BEGIN:VCALENDAR
VERSION:2.0
PRODID:-//ChamberMaster//Event Calendar 2.0//EN
METHOD:PUBLISH
X-PUBLISHED-TTL:P3D
REFRESH-INTERVAL:P3D
CALSCALE:GREGORIAN
BEGIN:VEVENT
DTSTART:20260610T003000Z
DTEND:20260610T020000Z
X-MICROSOFT-CDO-ALLDAYEVENT:FALSE
SUMMARY:Evening Business Social
DESCRIPTION:Let's get ready for our Evening Business Social with Menifee Senior Living.\n\n\n\nWe have 3 spots open for raffle prizes! Claim today by emailing genesis@menifeevalleychamber.com\n\n \nMenifee Senior Living is a senior living community in Menifee\, California\, providing a supportive and engaging environment for older adults.\n\nThey serve residents with a range of living options\, including:\n\n  Independent Living   for seniors who want an active\, maintenance-free lifestyle\n\n  Assisted Living   support with daily tasks like bathing\, dressing\, and medication while encouraging independence\n\n  Memory Care   tailored support and a secure setting for those living with Alzheimer's or dementia\n\n  Respite Care   short-term stays for recovery or family respite\n\nThe community emphasizes a vibrant lifestyle with daily activities\, social events\, fitness classes\, and amenities such as chef-prepared meals\, a swimming pool\, fitness center\, salon\, library\, and transportation for appointments and outings.\n\nStaff are available 24/7 to support resident needs\, and the environment is designed to feel comfortable\, safe\, and engaging. Families often choose Menifee Senior Living for its personalized care options and active community life.
X-ALT-DESC;FMTTYPE=text/html:<br />\n<span style="font-size:16px\;"><span style="font-family:arial\;">Let&#39\;s get ready for our Evening Business Social with Menifee Senior Living.<br style="font-size: 16px\;" />\n<br style="font-size: 16px\;" />\nWe have 3 spots open for raffle prizes! Claim today by emailing genesis@menifeevalleychamber.com</span></span><br />\n&nbsp\;\n<p data-end="142" data-start="0"><span style="font-size:16px\;"><span style="font-family:arial\;">Menifee Senior Living is a senior living community in Menifee\, California\, providing a supportive and engaging environment for older adults.</span></span></p>\n\n<p data-end="209" data-start="144"><span style="font-size:16px\;"><span style="font-family:arial\;">They serve residents with a range of living options\, including:</span></span></p>\n\n<p data-end="580" data-start="211"><span style="font-size:16px\;"><span style="font-family:arial\;">&bull\; Independent Living &mdash\; for seniors who want an active\, maintenance-free lifestyle<br data-end="295" data-start="292" />\n&bull\; Assisted Living &mdash\; support with daily tasks like bathing\, dressing\, and medication while encouraging independence<br data-end="412" data-start="409" />\n&bull\; Memory Care &mdash\; tailored support and a secure setting for those living with Alzheimer&rsquo\;s or dementia<br data-end="514" data-start="511" />\n&bull\; Respite Care &mdash\; short-term stays for recovery or family respite</span></span></p>\n\n<p data-end="824" data-start="582"><span style="font-size:16px\;"><span style="font-family:arial\;">The community emphasizes a vibrant lifestyle with daily activities\, social events\, fitness classes\, and amenities such as chef-prepared meals\, a swimming pool\, fitness center\, salon\, library\, and transportation for appointments and outings.</span></span></p>\n\n<p data-end="1055" data-is-last-node="" data-is-only-node="" data-start="826"><span style="font-size:16px\;"><span style="font-family:arial\;">Staff are available 24/7 to support resident needs\, and the environment is designed to feel comfortable\, safe\, and engaging. Families often choose Menifee Senior Living for its personalized care options and active community life.</span></span></p>\n
LOCATION:Menifee Senior Living
UID:e.2243.6810
SEQUENCE:3
DTSTAMP:20260419T220339Z
URL:https://business.menifeevalleychamber.com/events/details/evening-business-social-6810
END:VEVENT

END:VCALENDAR
