BEGIN:VCALENDAR
VERSION:2.0
PRODID:-//ChamberMaster//Event Calendar 2.0//EN
METHOD:PUBLISH
X-PUBLISHED-TTL:P3D
REFRESH-INTERVAL:P3D
CALSCALE:GREGORIAN
BEGIN:VEVENT
DTSTART:20210513T003000Z
DTEND:20210513T013000Z
X-MICROSOFT-CDO-ALLDAYEVENT:FALSE
SUMMARY:Evening Business Social featuring Senator Rosilicie Ochoa Bogh
DESCRIPTION:See Zoom details below! We are welcoming Senator Rosilicie Ochoa Bogh to the Menifee Valley Chamber's Virtual Evening Business Social. Representing California's Senate District 23\, Senator Ochoa Bogh will be presenting an update and answering your questions. Join us for a great meet\, greet and networking session.\n\n\nJoin Zoom Meeting: https://us02web.zoom.us/j/89548722451?pwd=RGY1N1UreXhKQTFpeTZBbjN4cDZmUT09\n\n\nMeeting ID: 895 4872 2451\n\n\nPasscode: 677935
X-ALT-DESC;FMTTYPE=text/html:<!-- wp:paragraph -->\n<p><span style="font-family:arial\;"><span style="color: rgb(5\, 5\, 5)\;">See Zoom details below! We are welcoming Senator Rosilicie Ochoa Bogh to the Menifee Valley Chamber&#39\;s Virtual Evening Business Social. Representing California&#39\;s Senate District 23\, Senator Ochoa Bogh will be presenting an update and answering your questions. Join us for a great meet\, greet and networking session.</span></span></p>\n<!-- /wp:paragraph --><!-- wp:paragraph -->\n\n<p>Join Zoom Meeting: <a href="https://us02web.zoom.us/j/89548722451?pwd=RGY1N1UreXhKQTFpeTZBbjN4cDZmUT09">https://us02web.zoom.us/j/89548722451?pwd=RGY1N1UreXhKQTFpeTZBbjN4cDZmUT09</a></p>\n<!-- /wp:paragraph --><!-- wp:paragraph -->\n\n<p>Meeting ID: 895 4872 2451</p>\n<!-- /wp:paragraph --><!-- wp:paragraph -->\n\n<p>Passcode: 677935</p>\n<!-- /wp:paragraph -->
LOCATION:
UID:e.2243.4259
SEQUENCE:3
DTSTAMP:20260425T004652Z
URL:https://business.menifeevalleychamber.com/events/details/evening-business-social-featuring-senator-rosilicie-ochoa-bogh-4259
END:VEVENT

END:VCALENDAR
