BEGIN:VCALENDAR
VERSION:2.0
PRODID:-//ChamberMaster//Event Calendar 2.0//EN
METHOD:PUBLISH
X-PUBLISHED-TTL:P3D
REFRESH-INTERVAL:P3D
CALSCALE:GREGORIAN
BEGIN:VEVENT
DTSTART:20220224T210000Z
DTEND:20220224T230000Z
X-MICROSOFT-CDO-ALLDAYEVENT:FALSE
SUMMARY:How to Start Your Own Restaurant
DESCRIPTION:This FREE seminar is designed for aspiring restauranteurs. Topics Include: - Overview of the Startup Process - Licensing and Permits - Small Business Financing - Business Plan
X-ALT-DESC;FMTTYPE=text/html:This FREE seminar is designed for aspiring restauranteurs. Topics Include: - Overview of the Startup Process - Licensing and Permits - Small Business Financing - Business Plan
LOCATION:Menifee City Hall (Council Chambers)\, 29844 Haun Road\, Menifee CA 92586
UID:e.2243.4934
SEQUENCE:3
DTSTAMP:20260423T153527Z
URL:https://business.menifeevalleychamber.com/events/details/how-to-start-your-own-restaurant-4934
END:VEVENT

END:VCALENDAR
