BEGIN:VCALENDAR
VERSION:2.0
PRODID:-//ChamberMaster//Event Calendar 2.0//EN
METHOD:PUBLISH
X-PUBLISHED-TTL:P3D
REFRESH-INTERVAL:P3D
CALSCALE:GREGORIAN
BEGIN:VEVENT
DTSTART:20260522T133000Z
DTEND:20260522T203000Z
X-MICROSOFT-CDO-ALLDAYEVENT:FALSE
SUMMARY:Patriots Cup Golf Tournament 2026
DESCRIPTION:The Menifee Valley Chamber of Commerce in partnership with the SCPGA Foundation and PGA HOPE launch the Patriots Cup Golf Tournament on May 22\, 2026. Come out to join us in remembering and celebrating Veterans through the game of golf.\n\nThe Mission Behind the Game\n\nThis tournament is a "win-win" for our community. Proceeds from the event serve two vital purposes:\n\n\n	\n	Chamber Initiatives: Funding for local business advocacy\, leadership programs\, and economic development in Menifee.\n	\n	\n	PGA HOPE: A portion of the proceeds goes to PGA HOPE (Helping Our Patriots Everywhere)\, the flagship military program that introduces golf to Veterans with disabilities to enhance their physical and emotional well-being.\n	\n\n\nEvent Highlights\n\n\n	\n	18-Hole Tournament: A premier golfing experience with opportunities for players of all skill levels.\n	\n	\n	Veteran Recognition: A ceremony dedicated to the heroes within our local community.\n	\n	\n	Networking & Engagement: Connect with the city's top business owners and community leaders.\n	\n	\n	Prizes & Raffles: A chance to win exciting giveaways and items from local vendors.\n	\n\n\nHow You Can Get Involved\n\nWe invite you to be a part of this impactful day. Whether you are looking to network on the course or give back behind the scenes\, your involvement makes a difference.\n\n\n	\n	Register to Play: Secure your spot as an individual or sign up as a foursome.\n	\n	\n	Become a Sponsor: Position your brand in front of Menifee's business community while supporting a great cause.\n	\n	\n	Join as a Volunteer: Help us manage the event and ensure our Veterans have an unforgettable day.\n	\n\n\n\n\n\nClick here to register!
X-ALT-DESC;FMTTYPE=text/html:<p data-path-to-node="4" style="box-sizing: border-box\; margin-top: 0px\; margin-bottom: 1rem\; font-family: &quot\;Open Sans&quot\;\, sans-serif\; font-size: 16px\; line-height: 22.4px\; letter-spacing: 0.32px\; animation: 0.4s linear 0.3s 1 normal none running text\;"><span style="box-sizing: border-box\; font-family: arial\, helvetica\, sans-serif\;">The Menifee Valley Chamber of Commerce in partnership with the SCPGA Foundation and PGA HOPE launch the Patriots Cup Golf Tournament on May 22\, 2026. Come out to join us in remembering and celebrating Veterans through the game of golf.</span></p>\n\n<h3 data-path-to-node="5" style="box-sizing: border-box\; margin: 0px 0px 10px\; font-family: &quot\;Open Sans&quot\;\, sans-serif\; color: rgb(78\, 82\, 86)\; font-size: 24px\; letter-spacing: 0.32px\;"><span style="box-sizing: border-box\; font-family: arial\, helvetica\, sans-serif\;"><span data-index-in-node="0" data-path-to-node="5" style="box-sizing: border-box\; font-weight: bolder\;">The Mission Behind the Game</span></span></h3>\n\n<p data-path-to-node="6" style="box-sizing: border-box\; margin-top: 0px\; margin-bottom: 1rem\; font-family: &quot\;Open Sans&quot\;\, sans-serif\; font-size: 16px\; line-height: 22.4px\; letter-spacing: 0.32px\; animation: 0.4s linear 0.3s 1 normal none running text\;"><span style="box-sizing: border-box\; font-family: arial\, helvetica\, sans-serif\;">This tournament is a &quot\;win-win&quot\; for our community. Proceeds from the event serve two vital purposes:</span></p>\n\n<ol data-path-to-node="7" start="1" style="box-sizing: border-box\; margin-top: 0px\; margin-bottom: 1rem\; font-family: &quot\;Open Sans&quot\;\, sans-serif\; font-size: 16px\; letter-spacing: 0.32px\;">\n	<li style="box-sizing: border-box\; font-family: arial\, helvetica\, sans-serif\;">\n	<p data-path-to-node="7\,0\,0" style="box-sizing: border-box\; margin-top: 0px\; margin-bottom: 1rem\; font-family: &quot\;Open Sans&quot\;\, sans-serif\; line-height: 22.4px\; letter-spacing: 0.02em\; animation: 0.4s linear 0.3s 1 normal none running text\;"><span style="box-sizing: border-box\; font-family: arial\, helvetica\, sans-serif\;"><span data-index-in-node="0" data-path-to-node="7\,0\,0" style="box-sizing: border-box\; font-weight: bolder\;">Chamber Initiatives:</span>&nbsp\;Funding for local business advocacy\, leadership programs\, and economic development in Menifee.</span></p>\n	</li>\n	<li style="box-sizing: border-box\; font-family: arial\, helvetica\, sans-serif\;">\n	<p data-path-to-node="7\,1\,0" style="box-sizing: border-box\; margin-top: 0px\; margin-bottom: 1rem\; font-family: &quot\;Open Sans&quot\;\, sans-serif\; line-height: 22.4px\; letter-spacing: 0.02em\; animation: 0.4s linear 0.3s 1 normal none running text\;"><span style="box-sizing: border-box\; font-family: arial\, helvetica\, sans-serif\;"><span data-index-in-node="0" data-path-to-node="7\,1\,0" style="box-sizing: border-box\; font-weight: bolder\;">PGA HOPE:</span>&nbsp\;A portion of the proceeds goes to&nbsp\;<span data-index-in-node="56" data-path-to-node="7\,1\,0" style="box-sizing: border-box\; font-weight: bolder\;">PGA HOPE</span>&nbsp\;(Helping Our Patriots Everywhere)\, the flagship military program that introduces golf to Veterans with disabilities to enhance their physical and emotional well-being.</span></p>\n	</li>\n</ol>\n\n<h3 data-path-to-node="8" style="box-sizing: border-box\; margin: 0px 0px 10px\; font-family: &quot\;Open Sans&quot\;\, sans-serif\; color: rgb(78\, 82\, 86)\; font-size: 24px\; letter-spacing: 0.32px\;"><span style="box-sizing: border-box\; font-family: arial\, helvetica\, sans-serif\;"><span data-index-in-node="0" data-path-to-node="8" style="box-sizing: border-box\; font-weight: bolder\;">Event Highlights</span></span></h3>\n\n<ul data-path-to-node="9" style="box-sizing: border-box\; margin-top: 0px\; margin-bottom: 1rem\; font-family: &quot\;Open Sans&quot\;\, sans-serif\; font-size: 16px\; letter-spacing: 0.32px\;">\n	<li style="box-sizing: border-box\; font-family: arial\, helvetica\, sans-serif\;">\n	<p data-path-to-node="9\,0\,0" style="box-sizing: border-box\; margin-top: 0px\; margin-bottom: 1rem\; font-family: &quot\;Open Sans&quot\;\, sans-serif\; line-height: 22.4px\; letter-spacing: 0.02em\; animation: 0.4s linear 0.3s 1 normal none running text\;"><span style="box-sizing: border-box\; font-family: arial\, helvetica\, sans-serif\;"><span data-index-in-node="0" data-path-to-node="9\,0\,0" style="box-sizing: border-box\; font-weight: bolder\;">18-Hole Tournament:</span>&nbsp\;A premier golfing experience with opportunities for players of all skill levels.</span></p>\n	</li>\n	<li style="box-sizing: border-box\; font-family: arial\, helvetica\, sans-serif\;">\n	<p data-path-to-node="9\,1\,0" style="box-sizing: border-box\; margin-top: 0px\; margin-bottom: 1rem\; font-family: &quot\;Open Sans&quot\;\, sans-serif\; line-height: 22.4px\; letter-spacing: 0.02em\; animation: 0.4s linear 0.3s 1 normal none running text\;"><span style="box-sizing: border-box\; font-family: arial\, helvetica\, sans-serif\;"><span data-index-in-node="0" data-path-to-node="9\,1\,0" style="box-sizing: border-box\; font-weight: bolder\;">Veteran Recognition:</span>&nbsp\;A ceremony dedicated to the heroes within our local community.</span></p>\n	</li>\n	<li style="box-sizing: border-box\; font-family: arial\, helvetica\, sans-serif\;">\n	<p data-path-to-node="9\,2\,0" style="box-sizing: border-box\; margin-top: 0px\; margin-bottom: 1rem\; font-family: &quot\;Open Sans&quot\;\, sans-serif\; line-height: 22.4px\; letter-spacing: 0.02em\; animation: 0.4s linear 0.3s 1 normal none running text\;"><span style="box-sizing: border-box\; font-family: arial\, helvetica\, sans-serif\;"><span data-index-in-node="0" data-path-to-node="9\,2\,0" style="box-sizing: border-box\; font-weight: bolder\;">Networking &amp\; Engagement:</span>&nbsp\;Connect with the city&rsquo\;s top business owners and community leaders.</span></p>\n	</li>\n	<li style="box-sizing: border-box\; font-family: arial\, helvetica\, sans-serif\;">\n	<p data-path-to-node="9\,3\,0" style="box-sizing: border-box\; margin-top: 0px\; margin-bottom: 1rem\; font-family: &quot\;Open Sans&quot\;\, sans-serif\; line-height: 22.4px\; letter-spacing: 0.02em\; animation: 0.4s linear 0.3s 1 normal none running text\;"><span style="box-sizing: border-box\; font-family: arial\, helvetica\, sans-serif\;"><span data-index-in-node="0" data-path-to-node="9\,3\,0" style="box-sizing: border-box\; font-weight: bolder\;">Prizes &amp\; Raffles:</span>&nbsp\;A chance to win exciting giveaways and items from local vendors.</span></p>\n	</li>\n</ul>\n\n<h3 data-path-to-node="11" style="box-sizing: border-box\; margin: 0px 0px 10px\; font-family: &quot\;Open Sans&quot\;\, sans-serif\; color: rgb(78\, 82\, 86)\; font-size: 24px\; letter-spacing: 0.32px\;"><span style="box-sizing: border-box\; font-family: arial\, helvetica\, sans-serif\;"><span data-index-in-node="0" data-path-to-node="11" style="box-sizing: border-box\; font-weight: bolder\;">How You Can Get Involved</span></span></h3>\n\n<p data-path-to-node="12" style="box-sizing: border-box\; margin-top: 0px\; margin-bottom: 1rem\; font-family: &quot\;Open Sans&quot\;\, sans-serif\; font-size: 16px\; line-height: 22.4px\; letter-spacing: 0.32px\; animation: 0.4s linear 0.3s 1 normal none running text\;"><span style="box-sizing: border-box\; font-family: arial\, helvetica\, sans-serif\;">We invite you to be a part of this impactful day. Whether you are looking to network on the course or give back behind the scenes\, your involvement makes a difference.</span></p>\n\n<ul data-path-to-node="13" style="box-sizing: border-box\; margin-top: 0px\; margin-bottom: 1rem\; font-family: &quot\;Open Sans&quot\;\, sans-serif\; font-size: 16px\; letter-spacing: 0.32px\;">\n	<li style="box-sizing: border-box\; font-family: arial\, helvetica\, sans-serif\;">\n	<p data-path-to-node="13\,0\,0" style="box-sizing: border-box\; margin-top: 0px\; margin-bottom: 1rem\; font-family: &quot\;Open Sans&quot\;\, sans-serif\; line-height: 22.4px\; letter-spacing: 0.02em\; animation: 0.4s linear 0.3s 1 normal none running text\;"><span style="box-sizing: border-box\; font-family: arial\, helvetica\, sans-serif\;"><span data-index-in-node="0" data-path-to-node="13\,0\,0" style="box-sizing: border-box\; font-weight: bolder\;">Register to Play:</span>&nbsp\;Secure your spot as an individual or sign up as a foursome.</span></p>\n	</li>\n	<li style="box-sizing: border-box\; font-family: arial\, helvetica\, sans-serif\;">\n	<p data-path-to-node="13\,1\,0" style="box-sizing: border-box\; margin-top: 0px\; margin-bottom: 1rem\; font-family: &quot\;Open Sans&quot\;\, sans-serif\; line-height: 22.4px\; letter-spacing: 0.02em\; animation: 0.4s linear 0.3s 1 normal none running text\;"><span style="box-sizing: border-box\; font-family: arial\, helvetica\, sans-serif\;"><span data-index-in-node="0" data-path-to-node="13\,1\,0" style="box-sizing: border-box\; font-weight: bolder\;">Become a Sponsor:</span>&nbsp\;Position your brand in front of Menifee&rsquo\;s business community while supporting a great cause.</span></p>\n	</li>\n	<li style="box-sizing: border-box\; font-family: arial\, helvetica\, sans-serif\;">\n	<p data-path-to-node="13\,2\,0" style="box-sizing: border-box\; margin-top: 0px\; margin-bottom: 1rem\; font-family: &quot\;Open Sans&quot\;\, sans-serif\; line-height: 22.4px\; letter-spacing: 0.02em\; animation: 0.4s linear 0.3s 1 normal none running text\;"><span style="box-sizing: border-box\; font-family: arial\, helvetica\, sans-serif\;"><span data-index-in-node="0" data-path-to-node="13\,2\,0" style="box-sizing: border-box\; font-weight: bolder\;">Join as a Volunteer:</span>&nbsp\;Help us manage the event and ensure our Veterans have an unforgettable day.</span></p>\n	</li>\n</ul>\n<br />\n<br />\n<span style="font-size:16px\;"><a href="https://bit.ly/PatriotsCup2026"><strong><u>Click here to register!</u></strong></a></span><br />\n&nbsp\;
LOCATION:Menifee Lakes Country Club
UID:e.2243.7411
SEQUENCE:3
DTSTAMP:20260419T202642Z
URL:https://business.menifeevalleychamber.com/events/details/patriots-cup-golf-tournament-2026-7411
END:VEVENT

END:VCALENDAR
