BEGIN:VCALENDAR
VERSION:2.0
PRODID:-//ChamberMaster//Event Calendar 2.0//EN
METHOD:PUBLISH
X-PUBLISHED-TTL:P3D
REFRESH-INTERVAL:P3D
CALSCALE:GREGORIAN
BEGIN:VEVENT
DTSTART:20220112T163000Z
DTEND:20220112T180000Z
X-MICROSOFT-CDO-ALLDAYEVENT:FALSE
SUMMARY:POSTPONED: Wake Up Menifee at Provecho Grill
DESCRIPTION:You are invited to join us for Wake Up Menifee at Provecho Grill!  This is a wonderful networking opportunity.  Bring your business cards.
X-ALT-DESC;FMTTYPE=text/html:You are invited to join us for Wake Up Menifee at Provecho Grill!&nbsp\; This is a wonderful networking opportunity.&nbsp\; Bring your business cards.&nbsp\;&nbsp\;
LOCATION:
UID:e.2243.4789
SEQUENCE:3
DTSTAMP:20260423T170451Z
URL:https://business.menifeevalleychamber.com/events/details/postponed-wake-up-menifee-at-provecho-grill-4789
END:VEVENT

END:VCALENDAR
